BEGIN:VCALENDAR
VERSION:2.0
PRODID:-//Miles Through Time Automotive Museum - ECPv6.15.20//NONSGML v1.0//EN
CALSCALE:GREGORIAN
METHOD:PUBLISH
X-ORIGINAL-URL:https://milesthroughtime.com
X-WR-CALDESC:Events for Miles Through Time Automotive Museum
REFRESH-INTERVAL;VALUE=DURATION:PT1H
X-Robots-Tag:noindex
X-PUBLISHED-TTL:PT1H
BEGIN:VTIMEZONE
TZID:America/New_York
BEGIN:DAYLIGHT
TZOFFSETFROM:-0500
TZOFFSETTO:-0400
TZNAME:EDT
DTSTART:20250309T070000
END:DAYLIGHT
BEGIN:STANDARD
TZOFFSETFROM:-0400
TZOFFSETTO:-0500
TZNAME:EST
DTSTART:20251102T060000
END:STANDARD
BEGIN:DAYLIGHT
TZOFFSETFROM:-0500
TZOFFSETTO:-0400
TZNAME:EDT
DTSTART:20260308T070000
END:DAYLIGHT
BEGIN:STANDARD
TZOFFSETFROM:-0400
TZOFFSETTO:-0500
TZNAME:EST
DTSTART:20261101T060000
END:STANDARD
BEGIN:DAYLIGHT
TZOFFSETFROM:-0500
TZOFFSETTO:-0400
TZNAME:EDT
DTSTART:20270314T070000
END:DAYLIGHT
BEGIN:STANDARD
TZOFFSETFROM:-0400
TZOFFSETTO:-0500
TZNAME:EST
DTSTART:20271107T060000
END:STANDARD
END:VTIMEZONE
BEGIN:VEVENT
DTSTART;TZID=America/New_York:20260620T100000
DTEND;TZID=America/New_York:20260620T130000
DTSTAMP:20260422T013505
CREATED:20260123T165005Z
LAST-MODIFIED:20260123T165005Z
UID:250482-1781949600-1781960400@milesthroughtime.com
SUMMARY:Clarkesville Car Show for KIDS
DESCRIPTION:Bring your kid’s favorite set of wheels and they can participate in the car show specifically for kids. \n\nBring your pedal car\, Big Wheels\, Hotwheels anything you’d like to share. This is a great kids event and we’ll have a lot of first responder vehicles on site as well.\nThere will be ride-on toys available for kids to enjoy that are not able to bring their own. Kids will also be able to participate in a show and shine\, parade\, and races.
URL:https://milesthroughtime.com/event/clarkesville-car-show-for-kids/
LOCATION:Miles Through Time Automotive Museum\, 583 Grant St\, Clarkesville\, GA\, 30523\, United States
CATEGORIES:car show
ATTACH;FMTTYPE=image/jpeg:https://milesthroughtime.com/wp-content/uploads/2026/01/IMG_7023.jpeg
END:VEVENT
BEGIN:VEVENT
DTSTART;TZID=America/New_York:20260801T100000
DTEND;TZID=America/New_York:20260801T130000
DTSTAMP:20260422T013505
CREATED:20260119T203027Z
LAST-MODIFIED:20260119T203132Z
UID:250472-1785578400-1785589200@milesthroughtime.com
SUMMARY:Mopar Madness Show
DESCRIPTION:Mopar or No Car! \nClassic cars to moderns\, trucks\, and Jeeps\, anything MOPAR If it’s a Mopar\, bring it to the show10$ entry fee (no preregistration) 10 Awards Come join us at the Miles through Time automotive museum for an ALL MOPAR CAR SHOW.
URL:https://milesthroughtime.com/event/mopar-madness-show/
LOCATION:Miles Through Time Automotive Museum\, 583 Grant St\, Clarkesville\, GA\, 30523\, United States
CATEGORIES:car show,Mopar
ATTACH;FMTTYPE=image/jpeg:https://milesthroughtime.com/wp-content/uploads/2026/01/616812540_1493434782358632_1202630405062172524_n.jpg
END:VEVENT
BEGIN:VEVENT
DTSTART;TZID=America/New_York:20261031T110000
DTEND;TZID=America/New_York:20261031T170000
DTSTAMP:20260422T013505
CREATED:20260325T174355Z
LAST-MODIFIED:20260325T174355Z
UID:250495-1793444400-1793466000@milesthroughtime.com
SUMMARY:3rd Annual Half Dead Car Show & Halloween Festival
DESCRIPTION:As daylight filters through drifting autumn mist\, the grounds of Vintage Garage Antiques awaken with a haunting charm. Rows of cars—some cloaked in cobwebs\, others grinning with monstrous grilles or glowing eyes—stand ready for judgment. Costumes aren’t required\, but the cars seem to whisper otherwise\, each one eager to show off its eerie disguise.\n\n Vendor booths stretch across the grounds like a haunted marketplace\, offering strange curiosities\, seasonal treats\, and handcrafted oddities. Lanterns sway in the breeze\, casting long\, dancing shadows that make you wonder what might be lurking just out of sight.\n\n A live DJ fills the air with spooky beats\, from ghostly grooves to bone‑rattling remixes. The music pulses through the crowd like a heartbeat beneath the pale afternoon sun.\n\n Belly dancers glide through the festival\, their shimmering costumes catching the light like enchanted flames. Their movements feel almost supernatural\, as if they’re calling ancient spirits to join the celebration.\n\n The costume contest invites witches\, monsters\, heroes\, and creatures unknown to step into the spotlight. Cheers echo through the festival as each participant reveals their most haunting look.\n\n Raffles add a spark of suspense\, each ticket a chance to win something wickedly delightful.\n\n Spooky trophies await the bravest car owners—twisted\, eerie creations that look like they were forged in a haunted workshop deep in the woods.\n\n And throughout the festival\, trick‑or‑treating keeps little goblins and ghouls busy as they wander from booth to booth collecting sweets.\n\n After the Festival… the Night Beckons\nWhen the festival winds down and the shadows grow longer\, the magic doesn’t end. Families and costumed creatures make their way to Clarkesville\, Georgia’s historic square from 5pm-7pm\, where the town transforms into a twilight wonderland of glowing pumpkins\, friendly frights\, and door‑to‑door trick‑or‑treating.\n\nThe square comes alive with laughter\, rustling leaves\, and the soft glow of storefronts offering treats to every wandering spirit. It’s the perfect way to close out a day of spooky celebration—safe\, festive\, and full of small-town Halloween charm.\n\nCall or text Melanie if interested in being a vendor- (470) 455-1140\n\nVendor spots are $40Vehicles are $20\nInterested in becoming a sponsor? Any donation will help.
URL:https://milesthroughtime.com/event/3rd-annual-half-dead-car-show-halloween-festival/
LOCATION:Miles Through Time Automotive Museum\, 583 Grant St\, Clarkesville\, GA\, 30523\, United States
CATEGORIES:car show,festival
ATTACH;FMTTYPE=image/jpeg:https://milesthroughtime.com/wp-content/uploads/2026/03/657281267_10232842287187360_2101136685606827489_n.jpg
END:VEVENT
END:VCALENDAR