BEGIN:VCALENDAR
VERSION:2.0
PRODID:-//Miles Through Time Automotive Museum - ECPv6.15.20//NONSGML v1.0//EN
CALSCALE:GREGORIAN
METHOD:PUBLISH
X-WR-CALNAME:Miles Through Time Automotive Museum
X-ORIGINAL-URL:https://milesthroughtime.com
X-WR-CALDESC:Events for Miles Through Time Automotive Museum
REFRESH-INTERVAL;VALUE=DURATION:PT1H
X-Robots-Tag:noindex
X-PUBLISHED-TTL:PT1H
BEGIN:VTIMEZONE
TZID:America/New_York
BEGIN:DAYLIGHT
TZOFFSETFROM:-0500
TZOFFSETTO:-0400
TZNAME:EDT
DTSTART:20170312T070000
END:DAYLIGHT
BEGIN:STANDARD
TZOFFSETFROM:-0400
TZOFFSETTO:-0500
TZNAME:EST
DTSTART:20171105T060000
END:STANDARD
BEGIN:DAYLIGHT
TZOFFSETFROM:-0500
TZOFFSETTO:-0400
TZNAME:EDT
DTSTART:20180311T070000
END:DAYLIGHT
BEGIN:STANDARD
TZOFFSETFROM:-0400
TZOFFSETTO:-0500
TZNAME:EST
DTSTART:20181104T060000
END:STANDARD
BEGIN:DAYLIGHT
TZOFFSETFROM:-0500
TZOFFSETTO:-0400
TZNAME:EDT
DTSTART:20190310T070000
END:DAYLIGHT
BEGIN:STANDARD
TZOFFSETFROM:-0400
TZOFFSETTO:-0500
TZNAME:EST
DTSTART:20191103T060000
END:STANDARD
BEGIN:DAYLIGHT
TZOFFSETFROM:-0500
TZOFFSETTO:-0400
TZNAME:EDT
DTSTART:20200308T070000
END:DAYLIGHT
BEGIN:STANDARD
TZOFFSETFROM:-0400
TZOFFSETTO:-0500
TZNAME:EST
DTSTART:20201101T060000
END:STANDARD
BEGIN:DAYLIGHT
TZOFFSETFROM:-0500
TZOFFSETTO:-0400
TZNAME:EDT
DTSTART:20210314T070000
END:DAYLIGHT
BEGIN:STANDARD
TZOFFSETFROM:-0400
TZOFFSETTO:-0500
TZNAME:EST
DTSTART:20211107T060000
END:STANDARD
BEGIN:DAYLIGHT
TZOFFSETFROM:-0500
TZOFFSETTO:-0400
TZNAME:EDT
DTSTART:20220313T070000
END:DAYLIGHT
BEGIN:STANDARD
TZOFFSETFROM:-0400
TZOFFSETTO:-0500
TZNAME:EST
DTSTART:20221106T060000
END:STANDARD
BEGIN:DAYLIGHT
TZOFFSETFROM:-0500
TZOFFSETTO:-0400
TZNAME:EDT
DTSTART:20230312T070000
END:DAYLIGHT
BEGIN:STANDARD
TZOFFSETFROM:-0400
TZOFFSETTO:-0500
TZNAME:EST
DTSTART:20231105T060000
END:STANDARD
BEGIN:DAYLIGHT
TZOFFSETFROM:-0500
TZOFFSETTO:-0400
TZNAME:EDT
DTSTART:20240310T070000
END:DAYLIGHT
BEGIN:STANDARD
TZOFFSETFROM:-0400
TZOFFSETTO:-0500
TZNAME:EST
DTSTART:20241103T060000
END:STANDARD
END:VTIMEZONE
BEGIN:VEVENT
DTSTART;TZID=America/New_York:20230520T100000
DTEND;TZID=America/New_York:20230520T170000
DTSTAMP:20260424T073824
CREATED:20230512T202202Z
LAST-MODIFIED:20230512T202349Z
UID:245220-1684576800-1684602000@milesthroughtime.com
SUMMARY:Mountain Laurel Cruise-In
DESCRIPTION:May 20th will be the 61st Mountain Laurel Festival held in downtown Clarkesville\, GA. Miles Through Time Automotive Museum is only half a mile down the street from the festival and to help celebrate we’re hosting an all-day cruise-in.\n\nWe’ll open an hour early at 9 am and you’ll be able to cruise over to the museum and walk to the festival if you like. You’ll be able to spend an entire day in Clarkesville.\nCowboy Bob’s Coffee & Donuts will be joining us so arrive hungry and thirsty.
URL:https://milesthroughtime.com/event/mountain-laurel-cruise-in/
LOCATION:Miles Through Time Automotive Museum\, 583 Grant St\, Clarkesville\, GA\, 30523\, United States
CATEGORIES:cruise-in
ATTACH;FMTTYPE=image/jpeg:https://milesthroughtime.com/wp-content/uploads/2023/05/344745313_784041919849304_7194717024096663051_n.jpg
ORGANIZER;CN="Miles Through Time Automotive Museum":MAILTO:info@milesthroughtime.com
END:VEVENT
BEGIN:VEVENT
DTSTART;TZID=America/New_York:20200404T110000
DTEND;TZID=America/New_York:20200404T180000
DTSTAMP:20260424T073824
CREATED:20200116T153359Z
LAST-MODIFIED:20200127T152617Z
UID:16789-1585998000-1586023200@milesthroughtime.com
SUMMARY:Grand Re-Opening Cruise-In
DESCRIPTION:On Saturday\, April 4\, 2020\, the museum will officially re-open in its new location inside the Old Clarkesville Mill in Clarkesville\, GA. To celebrate we will be hosting a cruise-in so come when you want and leave when you want\, we’ll be there from 11 am to 6 pm.\nSee everything new inside the all-new museum and explore northeast Georgia’s largest antique mall. Plus\, you can go bowling and grab a bite to eat and drink at Clarkesville Lanes\, also located inside the Old Clarkesville Mill.\nCome spend the day with us!\nStay up to date by signing up for our newsletter. https://milesthroughtime.com\n\n*Cruise-In is free\, General admission is $6 and $3 for children 6-12 years old\, under 6 are free.
URL:https://milesthroughtime.com/event/grand-re-opening-cruise-in/
LOCATION:Miles Through Time Automotive Museum\, 583 Grant St\, Clarkesville\, GA\, 30523\, United States
CATEGORIES:cruise-in,open
ATTACH;FMTTYPE=image/jpeg:https://milesthroughtime.com/wp-content/uploads/2020/01/MTTgrand-reopening.jpg
ORGANIZER;CN="Miles Through Time Automotive Museum":MAILTO:info@milesthroughtime.com
END:VEVENT
BEGIN:VEVENT
DTSTART;TZID=America/New_York:20190622T090000
DTEND;TZID=America/New_York:20190622T130000
DTSTAMP:20260424T073824
CREATED:20181215T195943Z
LAST-MODIFIED:20190115T151817Z
UID:16063-1561194000-1561208400@milesthroughtime.com
SUMMARY:Second Annual Car Show at the Museum
DESCRIPTION:MARK YOUR CALENDARS! \nMore Details to come as the date gets closer \nCelebrate our Two Year Anniversary with a huge car show! \nOpen to all makes and models. There will be food\, entertainment\, awards\, giveaways and more. Registration is $20 on the day of the show (includes museum admission for 2) \nThe show is FREE to the public and museum admission is only $5. \nContact for Sponsorship Opportunities! https://milesthroughtime.com/car-show/ \nMTT is a co-op style automotive museum that has over 100 years of automotive history on display. Everything in the museum is owned by different people. Some vehicles are being stored\, on consignment\, for sale by owner or they’ve been donated and everything is displayed as museum exhibits.
URL:https://milesthroughtime.com/event/second-annual-car-show-at-the-museum/
LOCATION:Miles Through Time Automotive Museum\, 583 Grant St\, Clarkesville\, GA\, 30523\, United States
CATEGORIES:annual car show,car show,open
ORGANIZER;CN="Miles Through Time Automotive Museum":MAILTO:info@milesthroughtime.com
END:VEVENT
BEGIN:VEVENT
DTSTART;TZID=America/New_York:20190323T100000
DTEND;TZID=America/New_York:20190323T150000
DTSTAMP:20260424T073824
CREATED:20190103T160242Z
LAST-MODIFIED:20190103T160242Z
UID:16245-1553335200-1553353200@milesthroughtime.com
SUMMARY:Museum Open & Cruise-in
DESCRIPTION:The Miles Through Time Automotive Museum is still closed for the season but will be open March 23\, 2018. Admission to the museum is only $5 and there is always free coffee in the lounge. Bring a cool car or just enjoy the ones we have on display in the museum.
URL:https://milesthroughtime.com/event/museum-open-cruise-in/
LOCATION:Miles Through Time Automotive Museum\, 583 Grant St\, Clarkesville\, GA\, 30523\, United States
CATEGORIES:cruise-in,open
ORGANIZER;CN="Miles Through Time Automotive Museum":MAILTO:info@milesthroughtime.com
END:VEVENT
BEGIN:VEVENT
DTSTART;TZID=America/New_York:20181229T100000
DTEND;TZID=America/New_York:20181229T150000
DTSTAMP:20260424T073824
CREATED:20181204T214522Z
LAST-MODIFIED:20181208T160519Z
UID:15993-1546077600-1546095600@milesthroughtime.com
SUMMARY:Museum open for John's 80th Birthday
DESCRIPTION:John was one of the first people to be a part of the Miles Through Time Automotive Museum. John pulled up in is 1948 Chevy right before the museum opened in 2017 (his first car) and told me he probably had the oldest cars in the county. Just before the grand opening\, John called and asked if I wanted him to bring his cars down to the museum. With a resounding YES\, john brought his collection to the museum\, including his 1948 Chevy. \nJohn is the reason the Miles Through Time Automotive Museum can say there is over 100 years of automotive history on display. On January 1st\, John will turn 80 and to celebrate he is having his birthday party at the museum Saturday\, December 29th at noon. \nJohn being the car enthusiast that he is\, we’ve decided to take his birthday up a notch just for him. So to celebrate we are opening the museum special Saturday\, December 29th and we are encouraging visitors to bring their cool old cars. All vehicles are welcome\, but for John the older the better. \nThe museum will be open 12/29/18 from 10 to 3 for anyone who would like to visit the museum.
URL:https://milesthroughtime.com/event/museum-open-for-johns-80th-birthday/
LOCATION:Miles Through Time Automotive Museum\, 583 Grant St\, Clarkesville\, GA\, 30523\, United States
CATEGORIES:car show,cruise-in,open
ATTACH;FMTTYPE=image/jpeg:https://milesthroughtime.com/wp-content/uploads/2018/12/46145206_601281996956580_5860677978576388096_o.jpg
ORGANIZER;CN="Miles Through Time Automotive Museum":MAILTO:info@milesthroughtime.com
END:VEVENT
BEGIN:VEVENT
DTSTART;TZID=America/New_York:20180323T100000
DTEND;TZID=America/New_York:20180323T150000
DTSTAMP:20260424T073824
CREATED:20181204T215358Z
LAST-MODIFIED:20181204T215358Z
UID:15999-1521799200-1521817200@milesthroughtime.com
SUMMARY:Automotive Museum Open Today
DESCRIPTION:The Miles Through Time Automotive Museum is still closed for the season but will be open March 23\, 2018. Admission to the museum is only $5 and there is always free coffee in the lounge. Bring a cool car or just enjoy the ones we have on display in the museum.
URL:https://milesthroughtime.com/event/automotive-museum-open-today/
LOCATION:Miles Through Time Automotive Museum\, 583 Grant St\, Clarkesville\, GA\, 30523\, United States
CATEGORIES:open
ATTACH;FMTTYPE=image/jpeg:https://milesthroughtime.com/wp-content/uploads/2018/12/47181419_610499482701498_6331697661720133632_n.jpg
ORGANIZER;CN="Miles Through Time Automotive Museum":MAILTO:info@milesthroughtime.com
END:VEVENT
END:VCALENDAR